BEGIN:VCALENDAR
VERSION:2.0
PRODID:-//Quinns Beach Primary School - ECPv6.15.20//NONSGML v1.0//EN
CALSCALE:GREGORIAN
METHOD:PUBLISH
X-ORIGINAL-URL:https://quinnsbeachps.wa.edu.au
X-WR-CALDESC:Events for Quinns Beach Primary School
REFRESH-INTERVAL;VALUE=DURATION:PT1H
X-Robots-Tag:noindex
X-PUBLISHED-TTL:PT1H
BEGIN:VTIMEZONE
TZID:Australia/Perth
BEGIN:STANDARD
TZOFFSETFROM:+0800
TZOFFSETTO:+0800
TZNAME:AWST
DTSTART:20250101T000000
END:STANDARD
END:VTIMEZONE
BEGIN:VEVENT
DTSTART;VALUE=DATE:20260619
DTEND;VALUE=DATE:20260620
DTSTAMP:20260421T033642
CREATED:20260420T074527Z
LAST-MODIFIED:20260420T074527Z
UID:3239-1781827200-1781913599@quinnsbeachps.wa.edu.au
SUMMARY:Winter Carnival
DESCRIPTION:
URL:https://quinnsbeachps.wa.edu.au/event/winter-carnival-2/
CATEGORIES:School Events
END:VEVENT
BEGIN:VEVENT
DTSTART;VALUE=DATE:20260626
DTEND;VALUE=DATE:20260627
DTSTAMP:20260421T033642
CREATED:20260420T074549Z
LAST-MODIFIED:20260420T074549Z
UID:3241-1782432000-1782518399@quinnsbeachps.wa.edu.au
SUMMARY:K4 Assembly
DESCRIPTION:
URL:https://quinnsbeachps.wa.edu.au/event/k4-assembly-2/
CATEGORIES:School Events
END:VEVENT
BEGIN:VEVENT
DTSTART;VALUE=DATE:20260629
DTEND;VALUE=DATE:20260704
DTSTAMP:20260421T033642
CREATED:20260420T074630Z
LAST-MODIFIED:20260420T074630Z
UID:3243-1782691200-1783123199@quinnsbeachps.wa.edu.au
SUMMARY:NAIDOC WEEK
DESCRIPTION:
URL:https://quinnsbeachps.wa.edu.au/event/naidoc-week/
CATEGORIES:School Events
END:VEVENT
BEGIN:VEVENT
DTSTART;VALUE=DATE:20260630
DTEND;VALUE=DATE:20260701
DTSTAMP:20260421T033642
CREATED:20260420T074647Z
LAST-MODIFIED:20260420T074647Z
UID:3245-1782777600-1782863999@quinnsbeachps.wa.edu.au
SUMMARY:Reports emailed home
DESCRIPTION:
URL:https://quinnsbeachps.wa.edu.au/event/reports-emailed-home-3/
CATEGORIES:School Events
END:VEVENT
BEGIN:VEVENT
DTSTART;VALUE=DATE:20260630
DTEND;VALUE=DATE:20260704
DTSTAMP:20260421T033642
CREATED:20260420T074719Z
LAST-MODIFIED:20260420T074719Z
UID:3247-1782777600-1783123199@quinnsbeachps.wa.edu.au
SUMMARY:Cross Country
DESCRIPTION:
URL:https://quinnsbeachps.wa.edu.au/event/cross-country/
CATEGORIES:School Events
END:VEVENT
BEGIN:VEVENT
DTSTART;VALUE=DATE:20260703
DTEND;VALUE=DATE:20260704
DTSTAMP:20260421T033642
CREATED:20260420T074741Z
LAST-MODIFIED:20260420T074741Z
UID:3249-1783036800-1783123199@quinnsbeachps.wa.edu.au
SUMMARY:Last day of Term
DESCRIPTION:
URL:https://quinnsbeachps.wa.edu.au/event/last-day-of-term/
CATEGORIES:Term Dates
END:VEVENT
END:VCALENDAR